BEGIN:VCALENDAR
VERSION:2.0
PRODID:-//Squarespace Inc/Squarespace 6//v6//EN
BEGIN:VEVENT
UID:5d2fd2c96f5cd50001fe9adb@squarespace.com
DTSTAMP:20190923T141548Z
DTSTART:20191012T083000Z
DTEND:20191012T113000Z
SUMMARY:Season Launch
END:VEVENT
END:VCALENDAR
